BEGIN:VCALENDAR
VERSION:2.0
PRODID:-//JBT - ECPv6.14.2//NONSGML v1.0//EN
CALSCALE:GREGORIAN
METHOD:PUBLISH
X-ORIGINAL-URL:https://www.keilaseurajbt.fi
X-WR-CALDESC:Events for JBT
REFRESH-INTERVAL;VALUE=DURATION:PT1H
X-Robots-Tag:noindex
X-PUBLISHED-TTL:PT1H
BEGIN:VTIMEZONE
TZID:Europe/Moscow
BEGIN:STANDARD
TZOFFSETFROM:+0300
TZOFFSETTO:+0300
TZNAME:MSK
DTSTART:20260101T000000
END:STANDARD
END:VTIMEZONE
BEGIN:VEVENT
DTSTART;TZID=Europe/Moscow:20260425T113000
DTEND;TZID=Europe/Moscow:20260425T140000
DTSTAMP:20260420T170027
CREATED:20260411T083058Z
LAST-MODIFIED:20260412T135712Z
UID:1762-1777116600-1777125600@www.keilaseurajbt.fi
SUMMARY:Seuraottelu Pyrstö - JBT (Hyvinkää)
DESCRIPTION:Seuraottelu Pyrstö – JBT pelataan Hyvinkään keilahallissa\nLauantaina 25.4.2026 klo 11.30 alkaen.\nPelataan 4-henkisin joukkuein 6 sarjaa (2×3) eurooppalaisittain.\nJBT:n joukkueeseen ovat ilmoittautuneet:\n1. Hyvönen Jarmo\n2. Rakkolainen Jussi\n3. Ahola Henry\n4. Takko Petri \nPyrstön Kevätkaadot 2026
URL:https://www.keilaseurajbt.fi/?tribe_events=seuraottelu-pyrsto-jbt-hyvinkaa-6
LOCATION:Hyvinkään keilahalli\, Kauppalankatu 7-11\, Hyvinkää\, 05800\, Suomi
CATEGORIES:Kutsukilpailu
END:VEVENT
BEGIN:VEVENT
DTSTART;TZID=Europe/Moscow:20260503T120000
DTEND;TZID=Europe/Moscow:20260503T150000
DTSTAMP:20260420T170027
CREATED:20260419T173935Z
LAST-MODIFIED:20260419T173935Z
UID:1779-1777809600-1777820400@www.keilaseurajbt.fi
SUMMARY:K-U Keilailuliiton mestaruuskilpailun 2025-2026 finaali
DESCRIPTION:K-U Keilailuliiton mestaruuskilpailun 2025-2026 finaali pelataan Järvenpään keilahallissa\nsunnuntaina 3.5.2026 klo 12.00 alkaen. Pelataan 5 sarjaa am ja kolmen parhaan pudotuspelit. \nJBT:n pelaajista finaaliin selvisivät Rakkolainen Jussi\, Hyvönen Jarmo ja Takko Petri. \nTässä alkukilpailujen tulokset ja finaaliin selvinneet\nK-U Keilailuliiton mestaruuskilpailun 2025-2026 finalistit \nAlkukilpailujen parhaan tuloksen keilasi Urho Nykter ja hän voitti Pekan kierrepallon vuodeksi itselleen.
URL:https://www.keilaseurajbt.fi/?tribe_events=k-u-keilailuliiton-mestaruuskilpailun-2025-2026-finaali
LOCATION:Järvenpään keilahalli\, Järvenpää\, Suomi
CATEGORIES:Mestaruuskilpailu
END:VEVENT
BEGIN:VEVENT
DTSTART;TZID=Europe/Moscow:20260530T120000
DTEND;TZID=Europe/Moscow:20260530T150000
DTSTAMP:20260420T170027
CREATED:20250919T142803Z
LAST-MODIFIED:20250919T142803Z
UID:1547-1780142400-1780153200@www.keilaseurajbt.fi
SUMMARY:JBT:n oman mestaruuskisan 2025-2026 finaali
DESCRIPTION:JBT:n oman mestaruuskisan 2025-2026 kahdeksan parasta pelaa finaalin perinteisin säännöin\nlauantaina 30.5.2026 klo 12.00 alkaen Järvenpään keilahallissa.
URL:https://www.keilaseurajbt.fi/?tribe_events=jbtn-oman-mestaruuskisan-2025-2026-finaali
LOCATION:Järvenpään keilahalli\, Järvenpää\, Suomi
CATEGORIES:Mestaruuskilpailu
END:VEVENT
END:VCALENDAR